BEGIN:VCALENDAR
VERSION:2.0
PRODID:icalendar-ruby
CALSCALE:GREGORIAN
METHOD:PUBLISH
BEGIN:VEVENT
DTSTAMP:20260426T041948Z
UID:7-450037@psphc.org
DTSTART:20261004T140000Z
DTEND:20261004T143000Z
CLASS:PUBLIC
CREATED:20260425T214758
DESCRIPTION:
LAST-MODIFIED:20260425T214758
LOCATION:260 Spring Road\, Patrick Springs\, VA 24133
SUMMARY:Sunday School
URL;VALUE=URI:https://www.psphc.org/events/sunday-school/2026-10-04
END:VEVENT
END:VCALENDAR
